BEGIN:VCALENDAR
VERSION:2.0
PRODID:-//Brompton Town Council//Meeting Calendar//EN
CALSCALE:GREGORIAN
METHOD:PUBLISH
BEGIN:VEVENT
UID:70571-20240101@bromptontowncouncil.gov.uk
DTSTAMP:20260423T114131Z
DTSTART;VALUE=DATE:20240101
DTEND;VALUE=DATE:20240102
SUMMARY:Council Meeting &#8211\\; 2024
DESCRIPTION:Full Council Meeting\nView details: https://bromptontowncouncil.gov.uk/meetings/council-meeting-2024/
URL:https://bromptontowncouncil.gov.uk/meetings/council-meeting-2024/
END:VEVENT
END:VCALENDAR
