BEGIN:VCALENDAR
VERSION:2.0
PRODID:-//Brompton Town Council//Meeting Calendar//EN
CALSCALE:GREGORIAN
METHOD:PUBLISH
BEGIN:VEVENT
UID:70738-20260120@bromptontowncouncil.gov.uk
DTSTAMP:20260423T100911Z
DTSTART;VALUE=DATE:20260120
DTEND;VALUE=DATE:20260121
SUMMARY:Council Meeting &#8211\\; 20 January 2026
DESCRIPTION:Full Council Meeting\nView details: https://bromptontowncouncil.gov.uk/meetings/council-meeting-20-january-2025/
URL:https://bromptontowncouncil.gov.uk/meetings/council-meeting-20-january-2025/
END:VEVENT
END:VCALENDAR
